BEGIN:VCALENDAR
VERSION:2.0
PRODID:-//eventon.com NONSGML v1.0//EN
CALSCALE:GREGORIAN
METHOD:PUBLISH
BEGIN:VEVENT
UID:69e7803526b33
DTSTAMP:20260421T134837Z
DTSTART:20260501T173000Z
DTEND:20260501T210000Z
LOCATION:Revival Food &amp; Mood 58 High Street\,  Whitstable\,  CT5 1BB
SUMMARY:Revival Charity Quiz Night
DESCRIPTION:Gather your team for the legendary Revival Charity Quiz Night!Â
   Snacks and bar available.\nhttps://www.revivalkent.co.uk/events/revival-c
 harity-quiz-night-4/
URL:https://www.revivalkent.co.uk/events/revival-charity-quiz-night-4/
END:VEVENT
END:VCALENDAR