BEGIN:VCALENDAR
VERSION:2.0
PRODID:-//eventon.com NONSGML v1.0//EN
CALSCALE:GREGORIAN
METHOD:PUBLISH
BEGIN:VEVENT
UID:69e885931891f
DTSTAMP:20260422T082347Z
DTSTART:20250416T090000Z
DTEND:20250416T100000Z
LOCATION:Revival Food &amp; Mood 58 High Street\,  Whitstable\,  CT5 1BB
SUMMARY:Women's Wellness 'Be Our Guest' - Joanna\,  Founder of The Bra Boss
DESCRIPTION:I&#8217;m Joanna\,  the founder of The Bra Boss of Kent\,  an a
 ward winning and professional bra fitting service based in Faversham. I hav
 e just over 14 years fitting experience and I’m passionate about helping 
 women find the perfect fit\,  ensuring they feel comfortable\,  supported\,
   and confident in their bras. I[..]\nhttps://www.revivalkent.co.uk/events/
 womens-wellness-be-our-guest-joanna-founder-of-the-bra-boss/
URL:https://www.revivalkent.co.uk/events/womens-wellness-be-our-guest-joanna-founder-of-the-bra-boss/
END:VEVENT
END:VCALENDAR