BEGIN:VCALENDAR
VERSION:2.0
PRODID:-//eventon.com NONSGML v1.0//EN
CALSCALE:GREGORIAN
METHOD:PUBLISH
BEGIN:VEVENT
UID:69e73acd9bb07
DTSTAMP:20260421T085229Z
DTSTART:20241104T190000Z
DTEND:20241104T200000Z
LOCATION:Revival Food &amp; Mood 58 High Street\,  Whitstable\,  CT5 1BB
SUMMARY:Mental Health Bank
DESCRIPTION:Mental Health Bank\nhttps://www.revivalkent.co.uk/events/mental
 -health-bank/
URL:https://www.revivalkent.co.uk/events/mental-health-bank/
END:VEVENT
END:VCALENDAR