BEGIN:VCALENDAR
VERSION:2.0
PRODID:-//eventon.com NONSGML v1.0//EN
CALSCALE:GREGORIAN
METHOD:PUBLISH
BEGIN:VEVENT
UID:69e73a1e1f5fd
DTSTAMP:20260421T084934Z
DTSTART:20241130T193000Z
DTEND:20241130T233000Z
LOCATION:Revival Food &amp; Mood 58 High Street\,  Whitstable\,  CT5 1BB
SUMMARY:Reggae & Dub DJ Night
DESCRIPTION:Join Generation Vinyl plus special guests and dance the night a
 way to Reggae\,  Dub\,  Dancehall\,  Lovers Rock\,  Roots Reggae\,  Rockste
 ady and Ska! Free entry.\nhttps://www.revivalkent.co.uk/events/generation-v
 inyl-presents-dub-on-dub/
URL:https://www.revivalkent.co.uk/events/generation-vinyl-presents-dub-on-dub/
END:VEVENT
END:VCALENDAR