BEGIN:VCALENDAR
VERSION:2.0
PRODID:-//eventon.com NONSGML v1.0//EN
CALSCALE:GREGORIAN
METHOD:PUBLISH
BEGIN:VEVENT
UID:69e9d676ef566
DTSTAMP:20260423T082110Z
DTSTART:20240204T100000Z
DTEND:20240204T120000Z
LOCATION:Kings Hall Herne Bay
SUMMARY:Wellbeing Walk - Be Our Guest
DESCRIPTION:We are delighted to welcome back our Be Our Guest Amy Hitchcock
  who will share again her knowledge of local foraging on Sunday 4th Feb as
  part of our regular walks. Meeting outside the Kings Hall \,  Herne Bay to
  set off at 10am.\nhttps://www.revivalkent.co.uk/events/wellbeing-walk-be-o
 ur-guest/
URL:https://www.revivalkent.co.uk/events/wellbeing-walk-be-our-guest/
END:VEVENT
END:VCALENDAR