BEGIN:VCALENDAR
VERSION:2.0
PRODID:-//eventon.com NONSGML v1.0//EN
CALSCALE:GREGORIAN
METHOD:PUBLISH
BEGIN:VEVENT
UID:69e74840b33a0
DTSTAMP:20260421T094952Z
DTSTART:20260820T173000Z
DTEND:20260820T200000Z
LOCATION:Revival Food &amp; Mood 58 High Street\,  Whitstable\,  CT5 1BB
SUMMARY:Revival Lates
DESCRIPTION:Social late night café for young people ages 16 to 25 years. 6
 .30pm to 9.00pm\nhttps://www.revivalkent.co.uk/events/revival-lates/var/ri-
 80.l-L1
URL:https://www.revivalkent.co.uk/events/revival-lates/var/ri-80.l-L1
END:VEVENT
END:VCALENDAR