BEGIN:VCALENDAR
VERSION:2.0
PRODID:-//eventon.com NONSGML v1.0//EN
CALSCALE:GREGORIAN
METHOD:PUBLISH
BEGIN:VEVENT
UID:69e4d1184d60e
DTSTAMP:20260419T125656Z
DTSTART:20230301T100000Z
DTEND:20230301T140000Z
LOCATION:Kent Community Oasis Garden University Of Kent\,  KentCOG\,  Crab & Winkle Way\,  Canterbury CT2 7NZ
SUMMARY:Kent Community Oasis Garden - Gardening For Everyone & Monthly Seed Sow
DESCRIPTION:Gardening sessions\,  10am to 2pm.\nhttps://www.revivalkent.co.
 uk/events/kent-community-oasis-garden-gardening-for-everyone-monthly-seed-s
 ow/
URL:https://www.revivalkent.co.uk/events/kent-community-oasis-garden-gardening-for-everyone-monthly-seed-sow/
END:VEVENT
END:VCALENDAR