BEGIN:VCALENDAR
VERSION:2.0
PRODID:-//eventon.com NONSGML v1.0//EN
CALSCALE:GREGORIAN
METHOD:PUBLISH
BEGIN:VEVENT
UID:69e73a7b2e6a8
DTSTAMP:20260421T085107Z
DTSTART:20230215T140000Z
DTEND:20230215T150000Z
LOCATION:Kent Community Oasis Garden University Of Kent\,  KentCOG\,  Crab & Winkle Way\,  Canterbury CT2 7NZ
SUMMARY:Kent Community Oasis Garden - Love Nature Seed Bomb Making!
DESCRIPTION:Give someone you know loves nature the chance to bomb it with b
 iodiversity.\nhttps://www.revivalkent.co.uk/events/kent-community-oasis-gar
 den-love-nature-seed-bomb-making/
URL:https://www.revivalkent.co.uk/events/kent-community-oasis-garden-love-nature-seed-bomb-making/
END:VEVENT
END:VCALENDAR