BEGIN:VCALENDAR
VERSION:2.0
PRODID:-//eventon.com NONSGML v1.0//EN
CALSCALE:GREGORIAN
METHOD:PUBLISH
BEGIN:VEVENT
UID:69e73a79bdf96
DTSTAMP:20260421T085105Z
DTSTART:20230118T100000Z
DTEND:20230118T140000Z
LOCATION:Kent Community Oasis Garden University Of Kent\,  KentCOG\,  Crab & Winkle Way\,  Canterbury CT2 7NZ
SUMMARY:Kent Community Oasis Garden -Hapa Zome art session
DESCRIPTION:Making bunting.\nhttps://www.revivalkent.co.uk/events/kent-comm
 unity-oasis-garden-hapa-zome-art-session/
URL:https://www.revivalkent.co.uk/events/kent-community-oasis-garden-hapa-zome-art-session/
END:VEVENT
END:VCALENDAR