BEGIN:VCALENDAR
VERSION:2.0
PRODID:-//eventon.com NONSGML v1.0//EN
CALSCALE:GREGORIAN
METHOD:PUBLISH
BEGIN:VEVENT
UID:69e9d788158d5
DTSTAMP:20260423T082544Z
DTSTART:20221228T180000Z
DTEND:20221228T235000Z
LOCATION:Riverside Café
SUMMARY:Women's Wellness Café - Evening
DESCRIPTION:\nhttps://www.revivalkent.co.uk/events/womens-wellness-2/var/ri
 -3.l-L1
URL:https://www.revivalkent.co.uk/events/womens-wellness-2/var/ri-3.l-L1
END:VEVENT
END:VCALENDAR