BEGIN:VCALENDAR
VERSION:2.0
PRODID:-//eventon.com NONSGML v1.0//EN
CALSCALE:GREGORIAN
METHOD:PUBLISH
BEGIN:VEVENT
UID:69e749532a41a
DTSTAMP:20260421T095427Z
DTSTART:20221221T180000Z
DTEND:20221221T235000Z
LOCATION:Riverside Café
SUMMARY:Women's Wellness Café - Evening
DESCRIPTION:\nhttps://www.revivalkent.co.uk/events/womens-wellness-2/var/ri
 -2.l-L1
URL:https://www.revivalkent.co.uk/events/womens-wellness-2/var/ri-2.l-L1
END:VEVENT
END:VCALENDAR